BEGIN:VCALENDAR
VERSION:2.0
PRODID:-//SPS - Events - ECPv6.2.0.1//NONSGML v1.0//EN
CALSCALE:GREGORIAN
X-WR-CALNAME:SPS - Events
X-ORIGINAL-URL:https://www.seattleschools.org/events/board-special-meeting
 -executive-session-april-29-2026/ics/
X-WR-CALDESC:SPS - Events
REFRESH-INTERVAL;VALUE=DURATION:PT1D
X-Robots-Tag:noindex
X-PUBLISHED-TTL:PT1D
BEGIN:VTIMEZONE
TZID:America/Vancouver
BEGIN:DAYLIGHT
TZOFFSETFROM:-0800
TZOFFSETTO:-0700
TZNAME:PDT
DTSTART:20260308T100000
END:DAYLIGHT
BEGIN:STANDARD
TZOFFSETFROM:-0700
TZOFFSETTO:-0800
TZNAME:PST
DTSTART:20261101T090000
END:STANDARD
END:VTIMEZONE
BEGIN:VEVENT
DTSTART;TZID=America/Vancouver:20260429T193000
DTEND;TZID=America/Vancouver:20260429T203000
DTSTAMP:20260424T021149Z
CREATED:20260423T143548Z
LAST-MODIFIED:20260423T143551Z
UID:https://www.seattleschools.org/events/board-special-meeting-executive-
 session-april-29-2026/
SUMMARY:Executive Session
DESCRIPTION:Board Special Meeting: Executive Session &amp;#8211\; April 29
 \, 2026
URL:https://www.seattleschools.org/events/board-special-meeting-executive-
 session-april-29-2026/
END:VEVENT
END:VCALENDAR